
BEGIN:VCALENDAR
VERSION:2.0
PRODID:-//Inscrições da MPC - ECPv6.9.1//NONSGML v1.0//EN
CALSCALE:GREGORIAN
METHOD:PUBLISH
X-ORIGINAL-URL:https://inscricoes.mpc.org.br
X-WR-CALDESC:Eventos para Inscrições da MPC
REFRESH-INTERVAL;VALUE=DURATION:PT1H
X-Robots-Tag:noindex
X-PUBLISHED-TTL:PT1H
BEGIN:VTIMEZONE
TZID:America/Sao_Paulo
BEGIN:STANDARD
TZOFFSETFROM:-0300
TZOFFSETTO:-0300
TZNAME:-03
DTSTART:20250101T000000
END:STANDARD
END:VTIMEZONE
BEGIN:VEVENT
DTSTART;VALUE=DATE:20250619
DTEND;VALUE=DATE:20310101
DTSTAMP:20260424T233426
CREATED:20250715T191441Z
LAST-MODIFIED:20250721T200810Z
UID:10000090-1750291200-1924991999@inscricoes.mpc.org.br
SUMMARY:MPC TV | ASSINATURA
DESCRIPTION:“Compartilhar nossa história é levar esperança — para que cada mensagem não pare nos ouvidos\, mas ecoe nas ideias.” \n\n📺 ACESSE E ASSINE A MPC TV\nOpções de assinatura de 6 meses ou 1 ano disponíveis.Fique conectado com tudo que Deus tem feito por meio da MPC!
URL:https://inscricoes.mpc.org.br/evento/mpc-tv-assinatura/
ATTACH;FMTTYPE=image/jpeg:https://inscricoes.mpc.org.br/wp-content/uploads/2025/07/WhatsApp-Image-2025-07-15-at-17.16.22.jpeg
END:VEVENT
BEGIN:VEVENT
DTSTART;VALUE=DATE:20250901
DTEND;VALUE=DATE:20251216
DTSTAMP:20260424T233426
CREATED:20250718T214844Z
LAST-MODIFIED:20250730T213433Z
UID:10000094-1756684800-1765843199@inscricoes.mpc.org.br
SUMMARY:Capacitação & Cultura - EaD de Liderança - 2025.2
DESCRIPTION:Sobre o Curso\nOs líderes da MPC possuem necessidades específicas que não são atendidas pelos nossos programas abertos de treinamento. Assim\, resolvemos desenvolver uma capacitação elaborada especialmente para promover um alinhamento de visão\, estratégia e filosofia ministerial dentro da organização. Considerando as dimensões continentais do Brasil\, entendemos que a melhor maneira é através do Ensino à Distância. \n \nQuem deve fazer? \n\nO EAD é um pré-requisito para o exercício de liderança da MPC nas cidades do Brasil\, sendo também oferecido aos vice-líderes locais\, líderes nacionais\, regionais e estaduais\, assim como membros de equipes nacionais.\n\n \nQual o objetivo? \n\nComplementar a formação dos líderes da MPC nas cidades\, apoiar o exercício das lideranças regionais\, promover a gestão e transmissão do conhecimento organizacional com qualidade superior e motivar os líderes da MPC através de uma capacitação excelente.\n\n \nQual o conteúdo? \n\nA identidade organizacional da MPC. A relação da MPC com diferentes segmentos da sociedade. A gestão de pessoas e ministérios dentro da MPC. A identidade\, necessidades e funções do líder da MPC. Liderança de equipe. O lugar do Evangelho no ministério. A mobilização e administração de recursos financeiros.\n\n \nQual a carga horária? \n\n40 horas\, distribuídas em 15 semanas\n\n \nCom que frequência acontece? \n\nUma vez por semestre\, para turmas de 50 alunos.\n\n \nTem algum custo? \n\nSim\, o valor do EAD de Capacitação de Líderes está fixado em R$ 180\,00 (cento e oitenta reais). É uma taxa única a ser paga antes do início das aulas.\n\n \nQuem é o responsável? \n\nQuem é o responsável? O ministério de Capacitação & Cultura da MPC Brasil.\n\n \n\n▶️ Você poderá realizar o pagamento via PIX à vista ou Cartão de Crédito em até 3 vezes.
URL:https://inscricoes.mpc.org.br/evento/capacitacao-cultura-ead-de-lideranca-2025-2/
ATTACH;FMTTYPE=image/jpeg:https://inscricoes.mpc.org.br/wp-content/uploads/2025/07/LIDERANCA_EAD.jpg
END:VEVENT
BEGIN:VEVENT
DTSTART;TZID=America/Sao_Paulo:20251121T190000
DTEND;TZID=America/Sao_Paulo:20251122T220000
DTSTAMP:20260424T233426
CREATED:20250913T150120Z
LAST-MODIFIED:20251114T183616Z
UID:10000101-1763751600-1763848800@inscricoes.mpc.org.br
SUMMARY:Curso Básico de Capelania Escolar | Curitiba
DESCRIPTION:Curso Básico de Capelania Escolar\nMPC Brasil \nEntendemos a escola como um campo missionário\, e nosso curso tem como objetivo capacitar as pessoas para que possam atuar nesses campos\, especialmente nas escolas\, desenvolvendo o trabalho de Capelania Escolar. \nAs escolas brasileiras estão clamando por socorro; são inúmeros os desafios enfrentados diariamente por alunos\, professores\, funcionários e familiares. \nEsses desafios podem se transformar em oportunidades para a Igreja ser relevante por meio do trabalho da Capelania. \nMissão “INSPIRAR\, CAPACITAR E CONSOLIDAR voluntários cristãos para prestar assistência de Capelania nas escolas brasileiras.” \nVisão: “Cada instituição de ensino\, em cada país/cidade\, terá a oportunidade de ter como capelão um seguidor de Jesus Cristo” \nLema: “Semeando esperança nas escolas.” \n\nCertificado pela MPC Brasil\nProfessores qualificados e credenciados\n\n \nDATA e HORÁRIO \n21/10/2025  – 19 horas ás 22 horas \n22/10/2025 – 8 horas ás 12 horas \n \nVALOR \n\n\n\nR$60\,00 – Certificado e lanche inclusos. Almoço não incluso; será cobrado separadamente.\n\n\n\n \nONDE ESTAREMOS \nLocal: Igreja Nacional do Cajuru \nEndereço: \nRua Tenente José Ribas Kendrick\, 03  – Cajuru – Curitiba – PR \n \nGRADE CURRICULAR DO CURSO \n1 – Visão geral e Aspectos Históricos da Capelania Escolar \n2 – Legislação e Normas para a atuação do capelão na escola \n3 – Relacionamento ético e Espiritualidade do capelão \n4 – Capelania e Evangelismo \n5 – Oportunidades e Desafios para o capelão na escola \n6 – Ferramentas para desenvolver um projeto de Capelania Escolar e orientações para ingressar na escola \n7 – Despertando e envolvendo a igreja na Missão de Capelania Escolar \n \nIMPORTANTE \nAo fazer a inscrição\, fique atento à escrita do seu nome. O certificado será emitido da maneira que você escrevê-lo. \nO não comparecimento ao curso não gera o direito à devolução do valor pago\, tendo em vista os custos de organização. \nTelefone de Contato para informações: \n\n\n\n\n(41) 99599- 9079 Tatiane\n\n\n\n\n\n \n\n▶️ Você poderá realizar o pagamento via PIX ou Cartão de Crédito
URL:https://inscricoes.mpc.org.br/evento/curso-basico-de-capelania-escolar-curitiba/
ATTACH;FMTTYPE=image/jpeg:https://inscricoes.mpc.org.br/wp-content/uploads/2025/09/WhatsApp-Image-2025-11-11-at-09.00.18-1.jpeg
END:VEVENT
END:VCALENDAR