
BEGIN:VCALENDAR
VERSION:2.0
PRODID:-//Inscrições da MPC - ECPv6.9.1//NONSGML v1.0//EN
CALSCALE:GREGORIAN
METHOD:PUBLISH
X-ORIGINAL-URL:https://inscricoes.mpc.org.br
X-WR-CALDESC:Eventos para Inscrições da MPC
REFRESH-INTERVAL;VALUE=DURATION:PT1H
X-Robots-Tag:noindex
X-PUBLISHED-TTL:PT1H
BEGIN:VTIMEZONE
TZID:America/Sao_Paulo
BEGIN:STANDARD
TZOFFSETFROM:-0300
TZOFFSETTO:-0300
TZNAME:-03
DTSTART:20250101T000000
END:STANDARD
END:VTIMEZONE
BEGIN:VEVENT
DTSTART;VALUE=DATE:20250619
DTEND;VALUE=DATE:20310101
DTSTAMP:20260424T180654
CREATED:20250715T191441Z
LAST-MODIFIED:20250721T200810Z
UID:10000090-1750291200-1924991999@inscricoes.mpc.org.br
SUMMARY:MPC TV | ASSINATURA
DESCRIPTION:“Compartilhar nossa história é levar esperança — para que cada mensagem não pare nos ouvidos\, mas ecoe nas ideias.” \n\n📺 ACESSE E ASSINE A MPC TV\nOpções de assinatura de 6 meses ou 1 ano disponíveis.Fique conectado com tudo que Deus tem feito por meio da MPC!
URL:https://inscricoes.mpc.org.br/evento/mpc-tv-assinatura/
ATTACH;FMTTYPE=image/jpeg:https://inscricoes.mpc.org.br/wp-content/uploads/2025/07/WhatsApp-Image-2025-07-15-at-17.16.22.jpeg
END:VEVENT
BEGIN:VEVENT
DTSTART;TZID=America/Sao_Paulo:20260120T140000
DTEND;TZID=America/Sao_Paulo:20260131T110000
DTSTAMP:20260424T180654
CREATED:20250715T190848Z
LAST-MODIFIED:20260118T014550Z
UID:10000089-1768917600-1769857200@inscricoes.mpc.org.br
SUMMARY:MÓDULO I | ESPECIALIZAÇÃO EM MINISTÉRIO COM JUVENTUDE - TEMPORADA 2026
DESCRIPTION:🎓 Treinamento de Líderes MPC Brasil 2026\nInformações gerais para os alunos \nKit de Roupa de Cama e Toalha e Compra do Livro indicado > ENCERRADO NO SITE – ADQUIRA NO CHECK-IN \n\n📅 DATAS\nInício: 20/01→ Check-in a partir das 14hTérmino: 31/01→ Após o café da manhã \n\n✅ REQUISITOS\n\nTer 16 anos ou mais\nEnviar autorização assinada\, no caso de menores\nEstar com pagamento confirmado\nParticipar integralmente do treinamento\n\n\n📚 CONTEÚDO PROGRAMÁTICO\nNosso curso de especialização em ministério com juventude visa capacitar o aluno no desenvolvimento da liderança cristã focada entre adolescentes e jovens. \n📖 Temas abordados:\n\nNossa visão e missão\nPrincípios e competências de liderança\nCompreendendo a juventude global\nEvangelismo\nSer e fazer discípulos\nDesenvolvendo o ministério\nComunicação criativa\nAtividades práticas\nEvangelismo prático\n\n\n📌 TAREFAS\nCarta ao aluno –  Treinamento de Líderes da MPC – Acesse a carta neste hiperlink \n   Livro: As Marcas de um Chamado – Lívia Pavanello NiehuesOs participantes do curso Especialização em Ministério com Juventude deverão adquirir o livro “As Marcas de um Chamado” como leitura preparatória.A leitura será utilizada como referência em uma das sessões práticas do treinamento. \n📌 A venda do livro está disponível abaixo por R$ 60\,00 (valor já com envio) > ATENÇÃO: DEVIDO À PROXIMIDADE DO TREINAMENTO E AO TEMPO INSUFICIENTE PARA ENVIO PELOS CORREIOS\, O VALOR FOI REDUZIDO PARA R$ 40\,00 E A ENTREGA SERÁ NO CHECK-IN DO ACAMPAMENTO. PARA ADIANTAR\, ENVIAREMOS UM PDF\, PARA QUEM ADQUIRIR O LIVRO\, PARA QUE POSSAM FAZER A LEITURA EM TEMPO HÁBIL PARA O TREINAMENTO. BOA LEITURA! \n\n💰 INSCRIÇÃO\nO valor da inscrição inclui:✔ Treinamento✔ Hospedagem✔ Alimentação \n🔹 Opcional: Adquira o Kit de Roupa de Cama e Toalha adicionando à sua compra. \n\n🟢 💵 BÔNUS PIX\nPague até 31/10/2025 e ganhe:R$ 40 em consumo no barzinho 🍫🥤 \n\nRetirada do bônus será feita no local \n\n\n👥 EQUIPE\nVocê contará com um time preparado para orientar e acompanhar sua jornada durante todo o treinamento. \n\n🗺️ COMO CHEGAR\n📍 Endereço:Estrada São Sebastião das Águas Claras\, 1000 – Macacos\, Nova Lima/MG📍 Google Maps:https://goo.gl/maps/PmrudiQD3xpCL4JC6 \n⚠️ Importante: A MPC não oferece transporte para chegada e retorno do acampamento. \n\n✈️ Aeroporto Confins\n\nOpção 1: Dividir Uber direto\nOpção 2: Ônibus → Rodoviária → UberTempo estimado: 2h a 2h30🔗 Site útil: conexaoaeroporto.com.br\n\n🚌 Rodoviária BH\n\nDividir Uber direto até o acampamentoTempo estimado: ~30 minutos\n\n\n💳 PAGAMENTO\n\nCartão: em até 5x sem juros\nPIX: à vista\, com bônus especial até 31/10/2025\n\n⚠️ ATENÇÃO:Monte abaixo o seu carrinho considerando todos os tickets desejados em uma única compra.Os itens serão somados automaticamente\, e o pagamento poderá ser feito por PIX ou Cartão de Crédito (até 5x sem juros). \n\n✝️ DUAS JORNADAS\, UM PROPÓSITO:\nFormar discípulos que transformam o mundo com o Evangelho de Cristo.🔹 Módulo I – Especialização em Ministério com Juventude🔹 Módulo II – Escola de Jesus \n\n📚 CONVITE ESPECIAL \nFique mais um dia conosco após o treinamento e participe de um momento de Consulta coordenado pelo Pr. Abrahão Soares — tempo dedicado a orientação\, perguntas e planejamento. \n🔗 Inscreva-se no link Consulta 99+1 e garanta sua vaga.
URL:https://inscricoes.mpc.org.br/evento/modulo-i-especializacao-em-ministerio-com-juventude-temporada-2026/
ATTACH;FMTTYPE=image/png:https://inscricoes.mpc.org.br/wp-content/uploads/2025/07/Treinamento-ingressos-1280x720-1.png
END:VEVENT
BEGIN:VEVENT
DTSTART;TZID=America/Sao_Paulo:20260120T140000
DTEND;TZID=America/Sao_Paulo:20260131T110000
DTSTAMP:20260424T180654
CREATED:20250715T191657Z
LAST-MODIFIED:20260118T014434Z
UID:10000091-1768917600-1769857200@inscricoes.mpc.org.br
SUMMARY:MÓDULO II | ESCOLA DE JESUS - TEMPORADA 2026
DESCRIPTION:🎓 Treinamento de Líderes MPC Brasil 2026\nInformações gerais para os alunos \n\nKit de Roupa de Cama e Toalha e Compra do Livro indicado > ENCERRADO NO SITE – ADQUIRA NO CHECK-IN \n\n\n📅 DATAS\nInício: 20/01→ Check-in a partir das 14hTérmino: 31/01→ Após o café da manhã \n\n✅ REQUISITOS\n\nTer 16 anos ou mais\nEnviar autorização assinada\, no caso de menores\nEstar com pagamento confirmado\nParticipar integralmente do treinamento\n\n\n📚 CONTEÚDO PROGRAMÁTICO\nEste ano\, em nosso curso\, vamos tratar dos fundamentos bíblicos e teológicos que compõe a formação de um discípulo de Jesus. \n📖 Temas abordados:\n\nJesus: a verdade sobre Deus\nJesus: a verdade sobre você (justiça)\nViva como Jesus\nQuem é o homem de Romanos 7?\nO engano do pecado\nDividindo a Palavra da Verdade corretamente\nGraça: o princípio ativo do Reino\nDiscipulado\nCura divina\nO Reino de Deus\nA Igreja\nExercícios de Ativação\nEvangelismo prático\n\n\n📌 TAREFAS\nCarta ao aluno –  Treinamento da Escola de Jesus da MPC – Acesse a carta neste hiperlink \n\n       Livro: Plataforma do Reino – Ricardo Costa \nTodo aluno inscrito no treinamento Escola de Jesus – Liderança no Poder do Espírito deverá adquirir e ler previamente o livro “Plataforma do Reino”.Essa leitura servirá como base para discussões e aprofundamentos durante as aulas. \n📌 A venda do livro está disponível abaixo por R$ 60\,00 (valor já com envio) > ATENÇÃO: NÃO ESTAMOS MAIS DISPONIBILIZANDO A VENDA DO LIVRO DEVIDO À PROXIMIDADE DO TREINAMENTO E AO TEMPO INSUFICIENTE PARA ENVIO PELOS CORREIOS. SUGERIMOS A PESQUISA EM SITES DA INTERNET QUE CONSIGA ENTREGAR NO SEU ENDEREÇO EM TEMPO HÁBIL PARA LEITURA.  \n\n\n💰 INSCRIÇÃO\nO valor da inscrição inclui:✔ Treinamento✔ Hospedagem✔ Alimentação \n🔹 Opcional: Adquira o Kit de Roupa de Cama e Toalha adicionando à sua compra. \n\n🟢 💵 BÔNUS PIX\nPague até 31/10/2025 e ganhe:R$ 40 em consumo no barzinho 🍫🥤 \n\nRetirada do bônus será feita no local \n\n\n👥 EQUIPE\nVocê contará com um time preparado para orientar e acompanhar sua jornada durante todo o treinamento. \n\n🗺️ COMO CHEGAR\n📍 Endereço:Estrada São Sebastião das Águas Claras\, 1000 – Macacos\, Nova Lima/MG📍 Google Maps:https://goo.gl/maps/PmrudiQD3xpCL4JC6 \n⚠️ Importante: A MPC não oferece transporte para chegada e retorno do acampamento. \n\n✈️ Aeroporto Confins\n\nOpção 1: Dividir Uber direto\nOpção 2: Ônibus → Rodoviária → UberTempo estimado: 2h a 2h30🔗 Site útil: conexaoaeroporto.com.br\n\n🚌 Rodoviária BH\n\nDividir Uber direto até o acampamentoTempo estimado: ~30 minutos\n\n\n💳 PAGAMENTO\n\nCartão: em até 5x sem juros\nPIX: à vista\, com bônus especial até 31/10/2025\n\n⚠️ ATENÇÃO:Monte abaixo o seu carrinho considerando todos os tickets desejados em uma única compra.Os itens serão somados automaticamente\, e o pagamento poderá ser feito por PIX ou Cartão de Crédito (até 5x sem juros). \n\n✝️ DUAS JORNADAS\, UM PROPÓSITO:\nFormar discípulos que transformam o mundo com o Evangelho de Cristo.🔹 Módulo I – Especialização em Ministério com Juventude🔹 Módulo II – Escola de Jesus \n\n\n📚 CONVITE ESPECIAL \nFique mais um dia conosco após o treinamento e participe de um momento de Consulta coordenado pelo Pr. Abrahão Soares — tempo dedicado a orientação\, perguntas e planejamento. \n🔗 Inscreva-se no link Consulta 99+1 e garanta sua vaga.
URL:https://inscricoes.mpc.org.br/evento/modulo-ii-edj-entendendo-a-dinamica-do-discipulado-de-jesus-temporada-2026/
ATTACH;FMTTYPE=image/png:https://inscricoes.mpc.org.br/wp-content/uploads/2025/07/TreinamentoMod2-ingressos-1280x720-1.png
END:VEVENT
BEGIN:VEVENT
DTSTART;TZID=America/Sao_Paulo:20260131T120000
DTEND;TZID=America/Sao_Paulo:20260201T140000
DTSTAMP:20260424T180654
CREATED:20251020T232819Z
LAST-MODIFIED:20251021T003552Z
UID:10000108-1769860800-1769954400@inscricoes.mpc.org.br
SUMMARY:CONSULTA 99+1 | PROJETO PAR
DESCRIPTION:Estamos diante de um grande desafio — e decidimos enfrentá-lo: o êxodo contínuo e crescente de pessoas da comunhão cristã\, especialmente entre 20 e 35 anos. É uma faixa etária que tem tudo a ver com a MPC. Jesus nos manda buscá-las. Daí surgiu a proposta 99+1 PROJETO PAR (Prevenção\, Alcance e Resgate). \n\n\n\n📅 DATAS\nInício: 31/01\, com almoço.\nTérmino: 01/02\, após o almoço. \n\n\n\n💰 INSCRIÇÃO\nPAR 99+1 — Aluno (Mód. I/II)\nExclusivo para alunos já inscritos no treinamento de 10 dias (Mód. I/II) que permanecerão para o encontro. \nInclui hospedagem e alimentação\, com encerramento no domingo após o almoço. R$ 50 \nPAR 99+1 — Visitante\nPara interessados que participarão apenas da Consulta 99+1 | Projeto PAR. \nInclui hospedagem e alimentação\, com encerramento no domingo após o almoço. R$ 150 \n\n🗺️ COMO CHEGAR\n📍 Endereço:Estrada São Sebastião das Águas Claras\, 1000 – Macacos\, Nova Lima/MG📍 Google Maps:https://goo.gl/maps/PmrudiQD3xpCL4JC6 \n⚠️ Importante: A MPC não oferece transporte para chegada e retorno do acampamento. \n\n✈️ Aeroporto Confins\n\nOpção 1: Dividir Uber direto\nOpção 2: Ônibus → Rodoviária → UberTempo estimado: 2h a 2h30🔗 Site útil: conexaoaeroporto.com.br\n\n🚌 Rodoviária BH\n\nDividir Uber direto até o acampamentoTempo estimado: ~30 minutos\n\n\n💳 PAGAMENTO\n\nCartão: parcelamento sem juros\, com parcela mínima de R$ 60\,00\nPIX: pagamento à vista.\n\n\n⚠️ ATENÇÃO:Monte abaixo o seu carrinho considerando todos os tickets desejados em uma única compra. Os itens serão somados automaticamente\, e o pagamento poderá ser feito por PIX ou Cartão de Crédito.
URL:https://inscricoes.mpc.org.br/evento/consulta-991-projeto-par/
ATTACH;FMTTYPE=image/jpeg:https://inscricoes.mpc.org.br/wp-content/uploads/2025/10/991.jpg
END:VEVENT
END:VCALENDAR