
BEGIN:VCALENDAR
VERSION:2.0
PRODID:-//Inscrições da MPC - ECPv6.9.1//NONSGML v1.0//EN
CALSCALE:GREGORIAN
METHOD:PUBLISH
X-WR-CALNAME:Inscrições da MPC
X-ORIGINAL-URL:https://inscricoes.mpc.org.br
X-WR-CALDESC:Eventos para Inscrições da MPC
REFRESH-INTERVAL;VALUE=DURATION:PT1H
X-Robots-Tag:noindex
X-PUBLISHED-TTL:PT1H
BEGIN:VTIMEZONE
TZID:America/Sao_Paulo
BEGIN:STANDARD
TZOFFSETFROM:-0300
TZOFFSETTO:-0300
TZNAME:-03
DTSTART:20250101T000000
END:STANDARD
END:VTIMEZONE
BEGIN:VEVENT
DTSTART;VALUE=DATE:20250619
DTEND;VALUE=DATE:20310101
DTSTAMP:20260424T192237
CREATED:20250715T191441Z
LAST-MODIFIED:20250721T200810Z
UID:10000090-1750291200-1924991999@inscricoes.mpc.org.br
SUMMARY:MPC TV | ASSINATURA
DESCRIPTION:“Compartilhar nossa história é levar esperança — para que cada mensagem não pare nos ouvidos\, mas ecoe nas ideias.” \n\n📺 ACESSE E ASSINE A MPC TV\nOpções de assinatura de 6 meses ou 1 ano disponíveis.Fique conectado com tudo que Deus tem feito por meio da MPC!
URL:https://inscricoes.mpc.org.br/evento/mpc-tv-assinatura/
ATTACH;FMTTYPE=image/jpeg:https://inscricoes.mpc.org.br/wp-content/uploads/2025/07/WhatsApp-Image-2025-07-15-at-17.16.22.jpeg
END:VEVENT
BEGIN:VEVENT
DTSTART;TZID=America/Sao_Paulo:20260207T080000
DTEND;TZID=America/Sao_Paulo:20260207T180000
DTSTAMP:20260424T192237
CREATED:20260118T020458Z
LAST-MODIFIED:20260219T171352Z
UID:10000112-1770451200-1770487200@inscricoes.mpc.org.br
SUMMARY:Curso Básico de Capelania Escolar | São Luis - MA
DESCRIPTION:Curso Básico de Capelania Escolar\nMPC Brasil \nEntendemos a escola como um campo missionário\, e nosso curso tem como objetivo capacitar as pessoas para que possam atuar nesses campos\, especialmente nas escolas\, desenvolvendo o trabalho de Capelania Escolar. \nAs escolas brasileiras estão clamando por socorro; são inúmeros os desafios enfrentados diariamente por alunos\, professores\, funcionários e familiares. \nEsses desafios podem se transformar em oportunidades para a Igreja ser relevante por meio do trabalho da Capelania. \nMissão “INSPIRAR\, CAPACITAR E CONSOLIDAR voluntários cristãos para prestar assistência de Capelania nas escolas brasileiras.” \nVisão: “Cada instituição de ensino\, em cada país/cidade\, terá a oportunidade de ter como capelão um seguidor de Jesus Cristo” \nLema: “Semeando esperança nas escolas.” \n\nCertificado pela MPC Brasil\nProfessores qualificados e credenciados\n\n \nDATA e HORÁRIO \n07/02/2026 – De 8h ás 18h \n \nVALOR \n\n\n\nR$60\,00 – Certificado e lanche inclusos. Almoço não incluso; será cobrado separadamente.\n\n\n\n \nONDE ESTAREMOS \nLocal: Catedral de Louvor Maranata \nEndereço: \nRua C\,2 – Conj. Hab. Turu. São Luis. Maranhão \nReferencia: Próximo ao INCRA \n \nGRADE CURRICULAR DO CURSO \n1 – Visão geral e Aspectos Históricos da Capelania Escolar \n2 – Legislação e Normas para a atuação do capelão na escola \n3 – Relacionamento ético e Espiritualidade do capelão \n4 – Capelania e Evangelismo \n5 – Oportunidades e Desafios para o capelão na escola \n6 – Ferramentas para desenvolver um projeto de Capelania Escolar e orientações para ingressar na escola \n7 – Despertando e envolvendo a igreja na Missão de Capelania Escolar \n \nIMPORTANTE \nAo fazer a inscrição\, fique atento à escrita do seu nome. O certificado será emitido da maneira que você escrevê-lo. \nO não comparecimento ao curso não gera o direito à devolução do valor pago\, tendo em vista os custos de organização. \nTelefone de Contato para informações: \n\n\n\n\n(98) 09337-0334 > Virgínia\n\n\n\n\n \n\n▶️ Você poderá realizar o pagamento via PIX ou Cartão de Crédito
URL:https://inscricoes.mpc.org.br/evento/curso-basico-de-capelania-escolar-sao-luis-ma/
ATTACH;FMTTYPE=image/jpeg:https://inscricoes.mpc.org.br/wp-content/uploads/2026/01/WhatsApp-Image-2026-01-19-at-10.56.31.jpeg
END:VEVENT
END:VCALENDAR