
BEGIN:VCALENDAR
VERSION:2.0
PRODID:-//Inscrições da MPC - ECPv6.9.1//NONSGML v1.0//EN
CALSCALE:GREGORIAN
METHOD:PUBLISH
X-WR-CALNAME:Inscrições da MPC
X-ORIGINAL-URL:https://inscricoes.mpc.org.br
X-WR-CALDESC:Eventos para Inscrições da MPC
REFRESH-INTERVAL;VALUE=DURATION:PT1H
X-Robots-Tag:noindex
X-PUBLISHED-TTL:PT1H
BEGIN:VTIMEZONE
TZID:America/Sao_Paulo
BEGIN:STANDARD
TZOFFSETFROM:-0300
TZOFFSETTO:-0300
TZNAME:-03
DTSTART:20250101T000000
END:STANDARD
END:VTIMEZONE
BEGIN:VEVENT
DTSTART;VALUE=DATE:20250619
DTEND;VALUE=DATE:20310101
DTSTAMP:20260424T151420
CREATED:20250715T191441Z
LAST-MODIFIED:20250721T200810Z
UID:10000090-1750291200-1924991999@inscricoes.mpc.org.br
SUMMARY:MPC TV | ASSINATURA
DESCRIPTION:“Compartilhar nossa história é levar esperança — para que cada mensagem não pare nos ouvidos\, mas ecoe nas ideias.” \n\n📺 ACESSE E ASSINE A MPC TV\nOpções de assinatura de 6 meses ou 1 ano disponíveis.Fique conectado com tudo que Deus tem feito por meio da MPC!
URL:https://inscricoes.mpc.org.br/evento/mpc-tv-assinatura/
ATTACH;FMTTYPE=image/jpeg:https://inscricoes.mpc.org.br/wp-content/uploads/2025/07/WhatsApp-Image-2025-07-15-at-17.16.22.jpeg
END:VEVENT
BEGIN:VEVENT
DTSTART;VALUE=DATE:20260406
DTEND;VALUE=DATE:20260716
DTSTAMP:20260424T151420
CREATED:20260305T141524Z
LAST-MODIFIED:20260416T202452Z
UID:10000125-1775433600-1784159999@inscricoes.mpc.org.br
SUMMARY:Curso Avançado de Capelania Escolar | EaD 200h | 1ºsem 2026
DESCRIPTION:Aprenda as principais técnicas\, ferramentas e estratégias para atuar dentro das escolas\nEntendemos a escola como um campo missionário\, e nosso curso tem como objetivo capacitar as pessoas para que possam atuar nesses campos\, especialmente nas escolas\, desenvolvendo o trabalho de Capelania Escolar. \nAs escolas brasileiras estão clamando por socorro; são inúmeros os desafios enfrentados diariamente por alunos\, professores\, funcionários e familiares. \nEsses desafios podem se transformar em oportunidades para a Igreja ser relevante por meio do trabalho da Capelania. \nMissão: “INSPIRAR\, CAPACITAR E CONSOLIDAR voluntários cristãos para prestar assistência de Capelania nas escolas brasileiras.” \nVisão: “Cada instituição de ensino\, em cada país/cidade\, terá a oportunidade de ter como capelão um seguidor de Jesus Cristo” \nLema: “Semeando esperança nas escolas.” \n\nCertificado pela MPC Brasil\nProfessores qualificados e credenciados\n\n \nCRONOGRAMA DO CURSO \nInício das aulas: 13 Abril  de 2026 \nTérmino das aulas: 15 Julho   de 2026 \nAs aulas serão ministradas através da plataforma classroom.google.com. \nPara acessar a plataforma Google Classroom\, é necessário ter um e-mail do Gmail e informá-lo durante o processo de inscrição. \n \nTeremos quatro encontros online ao vivo:  \n\nAula inaugural – 13 de Abril  de 2026\nAula Tira-dúvidas – 07  de Maio   de 2026\nPrimeiros passos – 25 de Junho   de 2026\nFormatura – 03 de agosto   de 2026\n\nObs.: Essas datas poderão sofrer alteração ao longo do curso \n \nGRADE CURRICULAR DO CURSO \nBoas Vindas! \n \nMódulo 1 – História e Legislação \n\nAula 1 – História Geral da Capelania\nAula 2 – História da Capelania Escolar\nAula 3 – História da Escola\nAula 4 – Legislação\nAula 5 – Aprofundamento Legislação\nAvaliação Módulo 1\n\n \nMódulo 2 – Atuação do Capelão escolar \n\nAula 6 – MPC Brasil\nAula 7 – O evangelho que vivemos e pregamos\nAula 8 – Aconselhamento\nAula 9 – Como elaborar uma palestra\nAula 10 – Projeto de Intervenção\nAula 11 – Como Elaborar e escrever um projeto\nAula 12 – Estratégia de Capelania 1\nAula 13 – Estratégia de Capelania 2\nAvaliação Módulo 2\n\n \nMódulo 3 – Vida Equilibrada do Capelão \n\nAula 14 – Espiritualidade\nAula 15 – Cuidado pessoal\nAula 16 – Cuidando de si para cuidar do outro\nAvaliação Módulo 3\n\n \nMódulo 4 – Capelania e Atualidade \n\nAula 17 – Saúde Emocional\nAula 18 – Proteção e luta contra o abuso infantil\nAula 19 – Ideologia de gênero\nAula 20 – Aprofundamento Feminismo\nAvaliação Módulo 4\n\n \n\n▶️ Você poderá realizar o pagamento via PIX ou Cartão de Crédito em até 3 vezes sem juros
URL:https://inscricoes.mpc.org.br/evento/curso-avancado-de-capelania-escolar-ead-200h-1osem-2026/
ATTACH;FMTTYPE=image/jpeg:https://inscricoes.mpc.org.br/wp-content/uploads/2026/03/WhatsApp-Image-2026-02-25-at-15.30.16.jpeg
END:VEVENT
BEGIN:VEVENT
DTSTART;TZID=America/Sao_Paulo:20260411T080000
DTEND;TZID=America/Sao_Paulo:20260411T173000
DTSTAMP:20260424T151420
CREATED:20260307T001523Z
LAST-MODIFIED:20260307T130758Z
UID:10000127-1775894400-1775928600@inscricoes.mpc.org.br
SUMMARY:Curso Básico de Capelania Escolar | Lavras - MG
DESCRIPTION:Curso Básico de Capelania Escolar\nMPC Brasil \nEntendemos a escola como um campo missionário\, e nosso curso tem como objetivo capacitar as pessoas para que possam atuar nesses campos\, especialmente nas escolas\, desenvolvendo o trabalho de Capelania Escolar. \nAs escolas brasileiras estão clamando por socorro; são inúmeros os desafios enfrentados diariamente por alunos\, professores\, funcionários e familiares. \nEsses desafios podem se transformar em oportunidades para a Igreja ser relevante por meio do trabalho da Capelania. \nMissão “INSPIRAR\, CAPACITAR E CONSOLIDAR voluntários cristãos para prestar assistência de Capelania nas escolas brasileiras.” \nVisão: “Cada instituição de ensino\, em cada país/cidade\, terá a oportunidade de ter como capelão um seguidor de Jesus Cristo” \nLema: “Semeando esperança nas escolas.” \n\nCertificado pela MPC Brasil\nProfessores qualificados e credenciados\n\n \nDATA e HORÁRIO \n11 de abril (sábado)\nDe 8h às 12h   (com intervalo para almoço)\nDe 13h30 às 17h30 \n \nVALOR \n\n\n\nR$80\,00 – Certificado e lanche inclusos. Almoço não incluso; será cobrado separadamente.\n\n\n\n \nONDE ESTAREMOS \nLocal: Segunda  Igreja Presbiteriana de Lavras \nEndereço: \nAv. Vaz Monteiro\, 179 – Lavras – MG \n  \n \nGRADE CURRICULAR DO CURSO \n1 – Visão geral e Aspectos Históricos da Capelania Escolar \n2 – Legislação e Normas para a atuação do capelão na escola \n3 – Relacionamento ético e Espiritualidade do capelão \n4 – Capelania e Evangelismo \n5 – Oportunidades e Desafios para o capelão na escola \n6 – Ferramentas para desenvolver um projeto de Capelania Escolar e orientações para ingressar na escola \n7 – Despertando e envolvendo a igreja na Missão de Capelania Escolar \n \nIMPORTANTE \nAo fazer a inscrição\, fique atento à escrita do seu nome. O certificado será emitido da maneira que você escrevê-lo. \nO não comparecimento ao curso não gera o direito à devolução do valor pago\, tendo em vista os custos de organização. \nTelefone de Contato para informações: \n\n\n\n\n(35) 988421287\n\n\n\n\n \n\n▶️ Você poderá realizar o pagamento via PIX ou Cartão de Crédito
URL:https://inscricoes.mpc.org.br/evento/curso-basico-de-capelania-escolar-lavras-mg/
ATTACH;FMTTYPE=image/png:https://inscricoes.mpc.org.br/wp-content/uploads/2026/03/FEED-Curso-basico-em-Capelania-baner-editavel.pptx-1.png
END:VEVENT
BEGIN:VEVENT
DTSTART;TZID=America/Sao_Paulo:20260411T080000
DTEND;TZID=America/Sao_Paulo:20260411T180000
DTSTAMP:20260424T151420
CREATED:20260224T130753Z
LAST-MODIFIED:20260407T230855Z
UID:10000116-1775894400-1775930400@inscricoes.mpc.org.br
SUMMARY:Curso Básico de Capelania Escolar | Guarapari - ES
DESCRIPTION:Curso Básico de Capelania Escolar\nMPC Brasil \nEntendemos a escola como um campo missionário\, e nosso curso tem como objetivo capacitar as pessoas para que possam atuar nesses campos\, especialmente nas escolas\, desenvolvendo o trabalho de Capelania Escolar. \nAs escolas brasileiras estão clamando por socorro; são inúmeros os desafios enfrentados diariamente por alunos\, professores\, funcionários e familiares. \nEsses desafios podem se transformar em oportunidades para a Igreja ser relevante por meio do trabalho da Capelania. \nMissão “INSPIRAR\, CAPACITAR E CONSOLIDAR voluntários cristãos para prestar assistência de Capelania nas escolas brasileiras.” \nVisão: “Cada instituição de ensino\, em cada país/cidade\, terá a oportunidade de ter como capelão um seguidor de Jesus Cristo” \nLema: “Semeando esperança nas escolas.” \n\nCertificado pela MPC Brasil\nProfessores qualificados e credenciados\n\n \nDATA e HORÁRIO \n11/04/2026 – De 8h ás 18h \n \nVALOR \n\n\n\nR$80\,00 – Certificado e lanche inclusos. Almoço não incluso; será cobrado separadamente.\n\n\n\n \nONDE ESTAREMOS \nLocal: Igreja Assembleia de Deus Santidade e Avivamento \nEndereço: \nRodovia do Sol\, 510- Santa Monica – Guarapari – ES \nRef- Em frente a União distribuidora \n  \n \nGRADE CURRICULAR DO CURSO \n1 – Visão geral e Aspectos Históricos da Capelania Escolar \n2 – Legislação e Normas para a atuação do capelão na escola \n3 – Relacionamento ético e Espiritualidade do capelão \n4 – Capelania e Evangelismo \n5 – Oportunidades e Desafios para o capelão na escola \n6 – Ferramentas para desenvolver um projeto de Capelania Escolar e orientações para ingressar na escola \n7 – Despertando e envolvendo a igreja na Missão de Capelania Escolar \n \nIMPORTANTE \nAo fazer a inscrição\, fique atento à escrita do seu nome. O certificado será emitido da maneira que você escrevê-lo. \nO não comparecimento ao curso não gera o direito à devolução do valor pago\, tendo em vista os custos de organização. \nTelefone de Contato para informações: \n\n\n\n\n(27) 99996 9606\n\n\n\n\n \n\n▶️ Você poderá realizar o pagamento via PIX ou Cartão de Crédito
URL:https://inscricoes.mpc.org.br/evento/curso-basico-de-capelania-escolar-guarapari-es-2/
ATTACH;FMTTYPE=image/png:https://inscricoes.mpc.org.br/wp-content/uploads/2026/02/BANNER-CAPELANIA-11.04.png
END:VEVENT
BEGIN:VEVENT
DTSTART;TZID=America/Sao_Paulo:20260411T080000
DTEND;TZID=America/Sao_Paulo:20260411T180000
DTSTAMP:20260424T151420
CREATED:20260307T002732Z
LAST-MODIFIED:20260331T204858Z
UID:10000128-1775894400-1775930400@inscricoes.mpc.org.br
SUMMARY:Curso Básico de Capelania Escolar | Teresópolis - RJ
DESCRIPTION:Curso Básico de Capelania Escolar\nMPC Brasil \nEntendemos a escola como um campo missionário\, e nosso curso tem como objetivo capacitar as pessoas para que possam atuar especialmente nas escolas\, desenvolvendo o trabalho de Capelania Escolar. \nAs escolas brasileiras estão clamando por socorro; são inúmeros os desafios enfrentados diariamente por alunos\, professores\, funcionários e familiares. \nEsses desafios podem se transformar em oportunidades para a Igreja ser relevante por meio do trabalho da Capelania. \nMissão “INSPIRAR\, CAPACITAR E CONSOLIDAR voluntários cristãos para prestar assistência de Capelania nas escolas brasileiras.” \nVisão: “Cada instituição de ensino\, em cada país/cidade\, terá a oportunidade de ter como capelão um seguidor de Jesus Cristo” \nLema: “Semeando esperança nas escolas.” \n\nCertificado pela MPC Brasil\nProfessores qualificados e credenciados\n\n \nDATA e HORÁRIO \n11/04/2026 – De 8h às 18h \n \nVALOR \n\n\n\nR$60\,00 – Certificado incluso.\n\n\n\n \nONDE ESTAREMOS \nLocal: Casa de oração \nEndereço: Rua Fileuterpe\, 469 – São Pedro – Teresópolis – RJ \n \nGRADE CURRICULAR DO CURSO \n1 – Visão geral e Aspectos Históricos da Capelania Escolar \n2 – Legislação e Normas para a atuação do capelão na escola \n3 – Relacionamento ético e Espiritualidade do capelão \n4 – Capelania e Evangelismo \n5 – Oportunidades e Desafios para o capelão na escola \n6 – Ferramentas para desenvolver um projeto de Capelania Escolar e orientações para ingressar na escola \n7 – Despertando e envolvendo a igreja na Missão de Capelania Escolar \n \nIMPORTANTE \nAo fazer a inscrição\, fique atento à escrita do seu nome. O certificado será emitido da maneira que você escrevê-lo. \nO não comparecimento ao curso não gera o direito à devolução do valor pago\, tendo em vista os custos de organização. \nTelefone de Contato para informações: \n\n\n\n\nChelline (21) 966457431\n\n\n\n\n \n\n▶️ Você poderá realizar o pagamento via PIX ou Cartão de Crédito
URL:https://inscricoes.mpc.org.br/evento/curso-basico-de-capelania-escolar-teresopolis-rj/
ATTACH;FMTTYPE=image/jpeg:https://inscricoes.mpc.org.br/wp-content/uploads/2026/03/WhatsApp-Image-2026-02-28-at-12.18.43.jpeg
END:VEVENT
END:VCALENDAR